BEGIN:VCALENDAR
VERSION:2.0
PRODID:-//Istoreto - ECPv4.5.13//NONSGML v1.0//EN
CALSCALE:GREGORIAN
METHOD:PUBLISH
X-WR-CALNAME:Istoreto
X-ORIGINAL-URL:https://www.istoreto.it
X-WR-CALDESC:Events for Istoreto
BEGIN:VEVENT
DTSTART;TZID=UTC+0:20241107T093000
DTEND;TZID=UTC+0:20241107T113000
DTSTAMP:20260420T171858
CREATED:20241103T192442Z
LAST-MODIFIED:20241114T074916Z
UID:21052-1730971800-1730979000@www.istoreto.it
SUMMARY:Sconfinati. Lo sguardo della storia sulle migrazioni contemporanee
DESCRIPTION:Istoreto collabora alla Winter School per studenti universitari – qui tutte le info \nWorkshop di  Carlo Greppi – Guerra ai migranti – ore 9.30 \n
URL:https://www.istoreto.it/event/21052/
END:VEVENT
END:VCALENDAR