BEGIN:VCALENDAR
VERSION:2.0
PRODID:-//Istoreto - ECPv4.5.13//NONSGML v1.0//EN
CALSCALE:GREGORIAN
METHOD:PUBLISH
X-WR-CALNAME:Istoreto
X-ORIGINAL-URL:https://www.istoreto.it
X-WR-CALDESC:Events for Istoreto
BEGIN:VEVENT
DTSTART;TZID=UTC+0:20241211T153000
DTEND;TZID=UTC+0:20241211T180000
DTSTAMP:20260422T132538
CREATED:20241119T133730Z
LAST-MODIFIED:20241119T133757Z
UID:21170-1733931000-1733940000@www.istoreto.it
SUMMARY:Metodi formati linguaggi per la didattica del tempo presente
DESCRIPTION:Metodi\,  formati e linguaggi per la didattica del tempo presente \n \nIncontro 2   ( 11 dicembre 2024) \n\nFeedback sulla E-tivity 1\nLa didattica del tempo presente: affondo 2 su Intelligenza Artificiale e scuola  (lezione quadro)\n\n
URL:https://www.istoreto.it/event/21170/
END:VEVENT
END:VCALENDAR