BEGIN:VCALENDAR
VERSION:2.0
PRODID:-//Istoreto - ECPv4.5.13//NONSGML v1.0//EN
CALSCALE:GREGORIAN
METHOD:PUBLISH
X-WR-CALNAME:Istoreto
X-ORIGINAL-URL:https://www.istoreto.it
X-WR-CALDESC:Events for Istoreto
BEGIN:VEVENT
DTSTART;TZID=UTC+0:20250114T173000
DTEND;TZID=UTC+0:20250114T190000
DTSTAMP:20260422T132605
CREATED:20241218T092530Z
LAST-MODIFIED:20241218T092644Z
UID:21339-1736875800-1736881200@www.istoreto.it
SUMMARY:Presentazione libro G. De Luna\, L. Giuva\, Un monumento di carta. La Segreteria particolare del Duce\, 1922-1943
DESCRIPTION:Piazzetta Antonicelli –  Polo del ‘900  – Torino \nSaluti  Paolo Borgna\, presidente  Istoreto \nIntervengono: Barbara Berruti\, direttrice Istoreto  e   Aldo Agosti\, Unito \nLetture a cura di Aldo Gianluigi Salassa\, Istoreto \nTutte le info qui \n
URL:https://www.istoreto.it/event/21339/
END:VEVENT
END:VCALENDAR