BEGIN:VCALENDAR
VERSION:2.0
PRODID:-//Istoreto - ECPv4.5.13//NONSGML v1.0//EN
CALSCALE:GREGORIAN
METHOD:PUBLISH
X-WR-CALNAME:Istoreto
X-ORIGINAL-URL:https://www.istoreto.it
X-WR-CALDESC:Events for Istoreto
BEGIN:VEVENT
DTSTART;TZID=UTC+0:20250424T170000
DTEND;TZID=UTC+0:20250424T190000
DTSTAMP:20260422T213738
CREATED:20250508T103449Z
LAST-MODIFIED:20250508T103554Z
UID:22468-1745514000-1745521200@www.istoreto.it
SUMMARY:Memorie di pietra - presentazione libro
DESCRIPTION:\nSegnaliamo che il 25 aprile\, allegato gratuitamente al quotidiano “La Stampa”\, uscirà il volume “25 aprile 1945-2025. Memorie di pietra. 80 anni dopo. 80 luoghi della Resistenza in Piemonte“\, realizzato dal Museo diffuso della Resistenza in collaborazione con gli Istituti storici della Resistenza del Piemonte.\nPresentazione  Circolo dei lettori – Torino\n\n Clicca  qui per tutte le info\n\n
URL:https://www.istoreto.it/event/22468/
END:VEVENT
END:VCALENDAR