BEGIN:VCALENDAR
VERSION:2.0
PRODID:-//Istoreto - ECPv4.5.13//NONSGML v1.0//EN
CALSCALE:GREGORIAN
METHOD:PUBLISH
X-WR-CALNAME:Istoreto
X-ORIGINAL-URL:https://www.istoreto.it
X-WR-CALDESC:Events for Istoreto
BEGIN:VEVENT
DTSTART;TZID=UTC+0:20250410T173000
DTEND;TZID=UTC+0:20250410T193000
DTSTAMP:20260422T153004
CREATED:20250411T072439Z
LAST-MODIFIED:20250411T072439Z
UID:22207-1744306200-1744313400@www.istoreto.it
SUMMARY:A. Agosti e M.Cassi\, Dalla parte giusta. Le guerre civili dei fratelli Giambone (1894-1944) (Edizioni ETS\, 2025)
DESCRIPTION:Presentazione del libro \nTutte le info qui https://www.istoreto.it/2025/04/a-agosti-e-m-cassi-dalla-parte-giusta-le-guerre-civili-dei-fratelli-giambone-1894-1944/ \n
URL:https://www.istoreto.it/event/a-agosti-e-m-cassi-dalla-parte-giusta-le-guerre-civili-dei-fratelli-giambone-1894-1944-edizioni-ets-2025/
END:VEVENT
END:VCALENDAR