BEGIN:VCALENDAR
VERSION:2.0
PRODID:-//Istoreto - ECPv4.5.13//NONSGML v1.0//EN
CALSCALE:GREGORIAN
METHOD:PUBLISH
X-WR-CALNAME:Istoreto
X-ORIGINAL-URL:https://www.istoreto.it
X-WR-CALDESC:Events for Istoreto
BEGIN:VEVENT
DTSTART;TZID=UTC+0:20241104T163000
DTEND;TZID=UTC+0:20241104T183000
DTSTAMP:20260420T143421
CREATED:20241021T103612Z
LAST-MODIFIED:20241021T103612Z
UID:20991-1730737800-1730745000@www.istoreto.it
SUMMARY:Albi illustrati - corso di formazione per insegnanti
DESCRIPTION:codice S.O.F.I.A.  9 5 2 9 4 \nIl corso di formazione\, organizzato dagli Istituti della Resistenza di Asti\, Biella-Vercelli\, Novara e Torino\, si propone di integrare gli albi illustrati nel contesto dell’insegnamento della storia del Novecento\, toccando tematiche di rilievo civico. \nper tutte le info clicca qui \nAlbi illustrati e storia del Novecento – corso di formazione per insegnanti \n \n
URL:https://www.istoreto.it/event/albi-illustrati-corso-di-formazione-per-insegnanti/
END:VEVENT
END:VCALENDAR