BEGIN:VCALENDAR
VERSION:2.0
PRODID:-//Istoreto - ECPv4.5.13//NONSGML v1.0//EN
CALSCALE:GREGORIAN
METHOD:PUBLISH
X-WR-CALNAME:Istoreto
X-ORIGINAL-URL:https://www.istoreto.it
X-WR-CALDESC:Events for Istoreto
BEGIN:VEVENT
DTSTART;TZID=UTC+0:20250429T183000
DTEND;TZID=UTC+0:20250429T200000
DTSTAMP:20260423T004723
CREATED:20250424T100303Z
LAST-MODIFIED:20250424T100318Z
UID:22393-1745951400-1745956800@www.istoreto.it
SUMMARY:Aprile ’45 – Torino insorge – documentario
DESCRIPTION:Clicca qui per le info \n
URL:https://www.istoreto.it/event/aprile-45-torino-insorge-documentario/
END:VEVENT
END:VCALENDAR