BEGIN:VCALENDAR
VERSION:2.0
PRODID:-//Istoreto - ECPv4.5.13//NONSGML v1.0//EN
CALSCALE:GREGORIAN
METHOD:PUBLISH
X-WR-CALNAME:Istoreto
X-ORIGINAL-URL:https://www.istoreto.it
X-WR-CALDESC:Events for Istoreto
BEGIN:VEVENT
DTSTART;TZID=UTC+0:20240521T180000
DTEND;TZID=UTC+0:20240521T193000
DTSTAMP:20260419T173522
CREATED:20240510T084953Z
LAST-MODIFIED:20240510T085046Z
UID:20001-1716314400-1716319800@www.istoreto.it
SUMMARY:B. Maida\, Sciuscià. Bambini e ragazzi di strada nell'Italia del dopoguerra 1943-1948  - Presentazione del libro
DESCRIPTION:Polo del ‘900 – Palazzo San Celso – Sala Conferenze – Piazzetta Antonicelli – Torino ore 18 \n  \nDiscutono con l’autore Marta Margotti\, Dipartimento  di Studi storici – Unito e Maria Paola Pierini\, Dipartimento di Studi umanistici – Unito\n\nIntroduce Micaela Veronesi\, Archivio Nazionale della Resistenza\n
URL:https://www.istoreto.it/event/b-maida-sciuscia-presentazione-del-libro/
END:VEVENT
END:VCALENDAR