BEGIN:VCALENDAR
VERSION:2.0
PRODID:-//Istoreto - ECPv4.5.13//NONSGML v1.0//EN
CALSCALE:GREGORIAN
METHOD:PUBLISH
X-WR-CALNAME:Istoreto
X-ORIGINAL-URL:https://www.istoreto.it
X-WR-CALDESC:Events for Istoreto
BEGIN:VEVENT
DTSTART;TZID=UTC+0:20250317T173000
DTEND;TZID=UTC+0:20250317T190000
DTSTAMP:20260422T151333
CREATED:20250224T111002Z
LAST-MODIFIED:20250224T111034Z
UID:21910-1742232600-1742238000@www.istoreto.it
SUMMARY:C. Dionisotti\, A. Galante Garrone\, «Le radici della vita» Una lunga amicizia attraverso la corrispondenza 1941-1997 – presentazione del libro
DESCRIPTION: Polo del ‘900 Auditorium Piazzetta Antonicelli – Torino \nDiscutono del volume  Aldo Agosti (Unito)\, Mariolina Bertini (Unito)\,  Alberto Cavaglion (Unifi) \nCoordina  Paolo Borgna\, presidente Istoreto. \nTutte le info qui  \n
URL:https://www.istoreto.it/event/c-dionisotti-a-galante-garrone-le-radici-della-vita-una-lunga-amicizia-attraverso-la-corrispondenza-1941-1997-presentazione-del-libro/
END:VEVENT
END:VCALENDAR