BEGIN:VCALENDAR
VERSION:2.0
PRODID:-//Istoreto - ECPv4.5.13//NONSGML v1.0//EN
CALSCALE:GREGORIAN
METHOD:PUBLISH
X-WR-CALNAME:Istoreto
X-ORIGINAL-URL:https://www.istoreto.it
X-WR-CALDESC:Events for Istoreto
BEGIN:VEVENT
DTSTART;TZID=UTC+0:20250307T174500
DTEND;TZID=UTC+0:20250307T190000
DTSTAMP:20260422T133429
CREATED:20250220T110917Z
LAST-MODIFIED:20250220T110931Z
UID:21864-1741369500-1741374000@www.istoreto.it
SUMMARY:C. Greppi\, Figlia mia. Vita di Franca Jarach\, desaparecida – presentazione del libro
DESCRIPTION: Polo del ‘900 Auditorium\, Piazzetta Antonicelli – Torino \nCarlo Greppi presenta il suo nuovo libro in dialogo con Alida Vitale e Ugo Zamburru\nSaluti di Luciano Boccalatte  \nInterviene da Buenos Aires Vera Vigevani Jarach \ningresso libero fino a esaurimento posti \nper info clicca qui \n
URL:https://www.istoreto.it/event/c-greppi-figlia-mia-vita-di-franca-jarach-desaparecida-presentazione-del-libro/
END:VEVENT
END:VCALENDAR