BEGIN:VCALENDAR
VERSION:2.0
PRODID:-//Istoreto - ECPv4.5.13//NONSGML v1.0//EN
CALSCALE:GREGORIAN
METHOD:PUBLISH
X-WR-CALNAME:Istoreto
X-ORIGINAL-URL:https://www.istoreto.it
X-WR-CALDESC:Events for Istoreto
BEGIN:VEVENT
DTSTART;TZID=UTC+0:20240906T163000
DTEND;TZID=UTC+0:20240906T183000
DTSTAMP:20260420T044910
CREATED:20240724T093109Z
LAST-MODIFIED:20240724T093109Z
UID:20484-1725640200-1725647400@www.istoreto.it
SUMMARY:C. Greppi\, storie che non fanno la Storia - presentazione del libro
DESCRIPTION: \n6 settembre – ore 16.30 – Polo del ‘900 – Palazzo San Daniele- Auditorium – Piazzetta Antonicelli  – Torino \nDialogano con l’autore  Carlo Greppi Enrica Bricchetto (Istoreto) e Enrico Manera (Istoreto) \nIntroduce Barbara Berruti\, direttrice Istoreto \nAl termine verrà assegnato il premio del concorso Accendi la Resistenza \n
URL:https://www.istoreto.it/event/c-greppi-storie-che-non-fanno-la-storia-presentazione-del-libro/
END:VEVENT
END:VCALENDAR