BEGIN:VCALENDAR
VERSION:2.0
PRODID:-//Istoreto - ECPv4.5.13//NONSGML v1.0//EN
CALSCALE:GREGORIAN
METHOD:PUBLISH
X-WR-CALNAME:Istoreto
X-ORIGINAL-URL:https://www.istoreto.it
X-WR-CALDESC:Events for Istoreto
BEGIN:VEVENT
DTSTART;TZID=UTC+0:20241219T173000
DTEND;TZID=UTC+0:20241219T190000
DTSTAMP:20260422T132948
CREATED:20241219T135435Z
LAST-MODIFIED:20241219T135435Z
UID:21361-1734629400-1734634800@www.istoreto.it
SUMMARY:Combattere. Verso la Liberazione - inaugurazione della mostra
DESCRIPTION: Palazzo San Celso – Corso Valdocco 4/A Torino           orari di apertura: martedì- domenica 10.00 – 18.00 \nUna mostra per affrontare la Resistenza del 1944 basata su fotografie\, materiale documentario e oggetti capaci di restituire la realtà quotidiana dell’occupazione e del combattere\, con particolare attenzione alle forme di resistenza. \nLa mostra si può visitare dal 20 dicembre 2024 all’11 maggio 2025 \ntutte le info qui \n  \n
URL:https://www.istoreto.it/event/combattere-verso-la-liberazione-inaugurazione-della-mostra/
END:VEVENT
END:VCALENDAR