BEGIN:VCALENDAR
VERSION:2.0
PRODID:-//Istoreto - ECPv4.5.13//NONSGML v1.0//EN
CALSCALE:GREGORIAN
METHOD:PUBLISH
X-WR-CALNAME:Istoreto
X-ORIGINAL-URL:https://www.istoreto.it
X-WR-CALDESC:Events for Istoreto
BEGIN:VEVENT
DTSTART;TZID=UTC+0:20250129T210000
DTEND;TZID=UTC+0:20250129T230000
DTSTAMP:20260422T133116
CREATED:20250121T155218Z
LAST-MODIFIED:20250121T155218Z
UID:21532-1738184400-1738191600@www.istoreto.it
SUMMARY:“Come astri spenti”. Scrivere dopo Auschwitz – Biblioteca di Chieri – con A. Cavaglion e E. Manera
DESCRIPTION:Sala conferenze della Biblioteca Francone di Chieri\, per ricordare gli 80 anni dall’abbattimento dei cancelli di Auschwitz\, si terrà l’incontro tenuto dal prof. Alberto Cavaglion\, storico e saggista\, dal titolo “Come astri spenti”. Scrivere dopo Auschwitz. L’intervento affronta il tema di come raccontare l’esperienza dei campi di sterminio dopo il 1945: si deve scrivere\, ma non si può più scrivere come prima. Partendo da La tregua di Primo Levi ci si propone di esplorare le diverse vie che la letteratura concentrazionaria ha percorso in Italia e in Europa. \ntutte le info qui \n
URL:https://www.istoreto.it/event/come-astri-spenti-scrivere-dopo-auschwitz-biblioteca-di-chieri-con-a-cavaglion-e-e-manera/
END:VEVENT
END:VCALENDAR