BEGIN:VCALENDAR
VERSION:2.0
PRODID:-//Istoreto - ECPv4.5.13//NONSGML v1.0//EN
CALSCALE:GREGORIAN
METHOD:PUBLISH
X-WR-CALNAME:Istoreto
X-ORIGINAL-URL:https://www.istoreto.it
X-WR-CALDESC:Events for Istoreto
BEGIN:VEVENT
DTSTART;TZID=UTC+0:20250123T093000
DTEND;TZID=UTC+0:20250123T123000
DTSTAMP:20260422T150606
CREATED:20250121T154914Z
LAST-MODIFIED:20250121T154914Z
UID:21530-1737624600-1737635400@www.istoreto.it
SUMMARY:Condividere la memoria della Shoah attraverso il portale Il passaggio del testimone
DESCRIPTION:Auditorium –   Palazzo San Daniele – Piazzetta Antonicelli – Torino \nscarica l’invito \nQuattro classi di scuola secondaria sono coinvolte nella presentazione e nell’esplorazione  del portale Il passaggio del testimone. Dalle microstorie alla storia (clicca qui) che propone fonti e risorse per la didattica della Shoah. \ntutte le info qui \n
URL:https://www.istoreto.it/event/condividere-la-memoria-della-shoah-attraverso-il-portale-il-passaggio-del-testimone/
END:VEVENT
END:VCALENDAR