BEGIN:VCALENDAR
VERSION:2.0
PRODID:-//Istoreto - ECPv4.5.13//NONSGML v1.0//EN
CALSCALE:GREGORIAN
METHOD:PUBLISH
X-WR-CALNAME:Istoreto
X-ORIGINAL-URL:https://www.istoreto.it
X-WR-CALDESC:Events for Istoreto
BEGIN:VEVENT
DTSTART;TZID=UTC+0:20241018T080000
DTEND;TZID=UTC+0:20241018T170000
DTSTAMP:20260420T143152
CREATED:20241018T085902Z
LAST-MODIFIED:20241018T090147Z
UID:20937-1729238400-1729270800@www.istoreto.it
SUMMARY:Controcampi - L'Africa e il mondo
DESCRIPTION:Presentazione del volume L’Africa e il mondo. Riannodare le storie dall’antichità al futuro (ADD editore\, 2024). Con Silvia Bruzzi e Paolo Calvino. Modera Enrico Manera \nPer superare gli stereotipi culturali di “culla dell’umanità”\, di serbatoio di milioni di uomini incatenati nelle navi negriere\, François-Xavier Fauvelle e Anne Lafont orchestrano i contributi di autori e autrici che raccontano un’Africa pienamente partecipe alla formazione della civiltà contemporanea. Sotto la lente dell’arte\, della natura\, delle religioni\, delle resistenze e diaspore si compone un continente in movimento da cui non hanno mai smesso di irradiarsi culture\, economie\, estetiche. Riannodare queste storie\, un capitolo dopo l’altro\, costruisce la nuova storia tra l’Africa e il mondo\, dall’antichità al futuro. Organizzano ADD editore e Istoreto \nPolo del ‘900 Spazio Incontri per info clicca qui  \n
URL:https://www.istoreto.it/event/controcampi-lafrica-e-il-mondo/
END:VEVENT
END:VCALENDAR