BEGIN:VCALENDAR
VERSION:2.0
PRODID:-//Istoreto - ECPv4.5.13//NONSGML v1.0//EN
CALSCALE:GREGORIAN
METHOD:PUBLISH
X-WR-CALNAME:Istoreto
X-ORIGINAL-URL:https://www.istoreto.it
X-WR-CALDESC:Events for Istoreto
BEGIN:VEVENT
DTSTART;TZID=UTC+0:20241018T080000
DTEND;TZID=UTC+0:20241018T170000
DTSTAMP:20260420T125320
CREATED:20241018T084343Z
LAST-MODIFIED:20241018T084343Z
UID:20935-1729238400-1729270800@www.istoreto.it
SUMMARY:Controcampi - L'ascaro coloniale
DESCRIPTION:Dialogo a partire dal volume L’Ascaro. Una storia anticoloniale di Ghebreyesus Hailu. Ne discutono il traduttore Uoldelul Chelati Dirar\, Valentina Fusari e Enrico Manera. \nScritto in tigrino negli anni ’20 del Novecento e solo ora tradotto in italiano dallo storico dell’università di Macerata Uoldelul Chelati Dirar (la traduzione inglese è del 2012\, quella araba del 2022)\, L’ascaro è una delle opere fondative della letteratura del corno d’Africa. Con una Prefazione di Maaza Mengiste e una postfazione di Alessandra Ferrini. Organizza Istoreto. \nPolo del ‘900 – Spazio incontri (Palazzo San Daniele) \ninfo clicca qui \n
URL:https://www.istoreto.it/event/controcampi-lascaro-coloniale/
END:VEVENT
END:VCALENDAR