BEGIN:VCALENDAR
VERSION:2.0
PRODID:-//Istoreto - ECPv4.5.13//NONSGML v1.0//EN
CALSCALE:GREGORIAN
METHOD:PUBLISH
X-WR-CALNAME:Istoreto
X-ORIGINAL-URL:https://www.istoreto.it
X-WR-CALDESC:Events for Istoreto
BEGIN:VEVENT
DTSTART;TZID=UTC+0:20250425T150000
DTEND;TZID=UTC+0:20250425T163000
DTSTAMP:20260422T225133
CREATED:20250424T095912Z
LAST-MODIFIED:20250424T095929Z
UID:22385-1745593200-1745598600@www.istoreto.it
SUMMARY:Dagli scioperi all’insurrezione: Torino 1943-1945 – gioco da tavolo – presentazione
DESCRIPTION:Clicca qui  per  le info \n
URL:https://www.istoreto.it/event/dagli-scioperi-allinsurrezione-torino-1943-1945-gioco-da-tavolo-presentazione/
END:VEVENT
END:VCALENDAR