BEGIN:VCALENDAR
VERSION:2.0
PRODID:-//Istoreto - ECPv4.5.13//NONSGML v1.0//EN
CALSCALE:GREGORIAN
METHOD:PUBLISH
X-WR-CALNAME:Istoreto
X-ORIGINAL-URL:https://www.istoreto.it
X-WR-CALDESC:Events for Istoreto
BEGIN:VEVENT
DTSTART;TZID=UTC+0:20241022T100000
DTEND;TZID=UTC+0:20241022T173000
DTSTAMP:20260420T110952
CREATED:20241015T134756Z
LAST-MODIFIED:20241015T134802Z
UID:20905-1729591200-1729618200@www.istoreto.it
SUMMARY:Donne e Resistenze Un percorso tra storia e contemporaneità – convegno
DESCRIPTION:Convegno Aula Magna Campus Luigi Einaudi 22 ottobre 2024 10.00 – 13.00 I 14.30 – 17.30 \nIl secondo dei quattro seminari sulla storia di genere\, organizzati sulla base della convenzione del  Coordinamento degli istituti culturali del Piemonte con il Dipartimento di Giurisprudenza dell’Università di Torino\, è dedicato a “Donne e resistenze”. Si intende affrontare il tema sia nella definizione storica e concettuale\, dal XVIII secolo alla contemporaneità\, sia attraverso casi di studio che illuminano il lungo e complesso percorso di emancipazione delle donne e la sua rappresentazione. \nLa Fondazione 1563 per l’Arte e la Cultura della Compagnia di San Paolo è tra i promotori e sostenitori del ciclo di incontri\, aperto a un pubblico vasto ma indirizzato agli studenti. Questa edizione si avvale anche della collaborazione dell’Ordine degli Architetti e dell’Ordine degli Avvocati di Torino. \nclicca  qui  per scaricare la locandina \n  \n
URL:https://www.istoreto.it/event/donne-e-resistenze-un-percorso-tra-storia-e-contemporaneita-convegno/
END:VEVENT
END:VCALENDAR