BEGIN:VCALENDAR
VERSION:2.0
PRODID:-//Istoreto - ECPv4.5.13//NONSGML v1.0//EN
CALSCALE:GREGORIAN
METHOD:PUBLISH
X-WR-CALNAME:Istoreto
X-ORIGINAL-URL:https://www.istoreto.it
X-WR-CALDESC:Events for Istoreto
BEGIN:VEVENT
DTSTART;TZID=UTC+0:20240905T090000
DTEND;TZID=UTC+0:20240905T180000
DTSTAMP:20260420T044317
CREATED:20240909T090940Z
LAST-MODIFIED:20240909T090940Z
UID:20623-1725526800-1725559200@www.istoreto.it
SUMMARY:Educazione civica in progettazione
DESCRIPTION:Civic education: methodological training into English language. Evento formativo in collaborazione con USR \nAuditorium; Salotto; Spazio incontri; Sala Memoria Alpi \n
URL:https://www.istoreto.it/event/educazione-civica-in-progettazione/
END:VEVENT
END:VCALENDAR