BEGIN:VCALENDAR
VERSION:2.0
PRODID:-//Istoreto - ECPv4.5.13//NONSGML v1.0//EN
CALSCALE:GREGORIAN
METHOD:PUBLISH
X-WR-CALNAME:Istoreto
X-ORIGINAL-URL:https://www.istoreto.it
X-WR-CALDESC:Events for Istoreto
BEGIN:VEVENT
DTSTART;TZID=UTC+0:20240530T180000
DTEND;TZID=UTC+0:20240530T193000
DTSTAMP:20260419T205539
CREATED:20240513T171145Z
LAST-MODIFIED:20240529T111126Z
UID:20060-1717092000-1717097400@www.istoreto.it
SUMMARY:G. Segre\, La cultura della Convivenza. Di cosa parliamo quando parliamo di politica - presentazione del libro
DESCRIPTION:Polo del ‘900\, Palazzo San Daniele\, Auditorium\, Piazzetta Antonicelli\, Torino \nNe discutono con l’autore\, Giovanni De Luna\, Unito – Dipartimento di studi storici\, Anna Mastromarino\, Unito – Dipartimento di studi giuridici e Gustavo Zagrebelsky\, Unito – Dipartimento di studi giuridici \nSaluti di Paolo Borgna\, presidente Istoreto \n
URL:https://www.istoreto.it/event/g-segre-la-cultura-della-convivenza-di-cosa-parliamo-quando-parliamo-di-politica-presentazione-del-libro/
END:VEVENT
END:VCALENDAR