BEGIN:VCALENDAR
VERSION:2.0
PRODID:-//Istoreto - ECPv4.5.13//NONSGML v1.0//EN
CALSCALE:GREGORIAN
METHOD:PUBLISH
X-WR-CALNAME:Istoreto
X-ORIGINAL-URL:https://www.istoreto.it
X-WR-CALDESC:Events for Istoreto
BEGIN:VEVENT
DTSTART;TZID=UTC+0:20250618T170000
DTEND;TZID=UTC+0:20250618T200000
DTSTAMP:20260422T230642
CREATED:20250616T163100Z
LAST-MODIFIED:20250616T163128Z
UID:22632-1750266000-1750276800@www.istoreto.it
SUMMARY:Giustizia e conflitti internazionali.Riflessioni a partire da Ucraina\, Israele e Gaza (Edizioni Seb27\, 2025) - semianario
DESCRIPTION:Circolo della Stampa – ore 17 \nIntervengono: Rosario Aitala (vice-presidente Corte penale internazionale); Edoardo Greppi (professore emerito di Diritto internazionale\, Università Torino); Alberto Perduca (magistrato\, con esperienza nei Balcani\, Est Europa e Medio Oriente); Ludovica Poli (professoressa associata di Diritto internazionale\, Università Torino); Andrea Spagnolo (professore associato di Diritto internazionale\, Università di Torino); Giordano Stabile (giornalista\, “La Stampa”); Stefano Tallia (presidente dell’Ordine dei giornalisti Piemonte) \n
URL:https://www.istoreto.it/event/giustizia-e-conflitti-internazionali-riflessioni-a-partire-da-ucraina-israele-e-gaza-edizioni-seb27-2025-semianario/
END:VEVENT
END:VCALENDAR