BEGIN:VCALENDAR
VERSION:2.0
PRODID:-//Istoreto - ECPv4.5.13//NONSGML v1.0//EN
CALSCALE:GREGORIAN
METHOD:PUBLISH
X-WR-CALNAME:Istoreto
X-ORIGINAL-URL:https://www.istoreto.it
X-WR-CALDESC:Events for Istoreto
BEGIN:VEVENT
DTSTART;TZID=UTC+0:20240409T160000
DTEND;TZID=UTC+0:20240409T180000
DTSTAMP:20260419T132044
CREATED:20240327T130754Z
LAST-MODIFIED:20240328T084811Z
UID:19701-1712678400-1712685600@www.istoreto.it
SUMMARY:Giustizie e conflitti. Riflessioni a partire Ucraina\, Israele e Gaza
DESCRIPTION:Terzo incontro\n9 aprile\, Campus Einaudi\, Fulvio M. Palombino\, Università di Napoli Federico II\, Raffaella Nigro\, Università della Magna Grecia\, Cuno Tarfussser\, già vice presidente della Corte penale internazionale\, Il ruolo delle corti interne nella persecuzione dei crimini internazionali: difficoltà presenti e opportunità future alla luce dei due conflitti \nL’idea che ispira il progetto è che i due conflitti in corso offrano – purtroppo – un’opportunità unica alla giustizia – attraverso le sue istanze internazionali e nazionali – per avanzare nell’adempimento della sua missione di contrasto all’impunità per le gravi violazioni del diritto internazionale. \nIl progetto vede la compartecipazione del Dipartimento di Giurisprudenza dell’Università di Torino e di ISTORETO\, con la collaborazione di Memorial – Italia e l’adesione del Coordinamento degli Istituti culturali del Piemonte. \nOtto le sessioni in programma del seminario nelle quali\, muovendo dalle peculiarità dei due conflitti in corso\, docenti e ricercatori universitari insieme a magistrati e giornalisti\, si confronteranno su questioni cruciali quali : il ruolo in divenire della giustizia internazionale – non solo penale – e degli Stati; la narrazione mediatica della guerra\, dei crimini connessi e della loro repressione; l’utilizzo\, proprio e strumentale\, del crimine di genocidio; l’interazione tra stato di diritto e guerra nei Paesi coinvolti. \nIl ciclo di incontri è rivolto a studentesse e studenti \, docenti e alla cittadinanza.  Clicca qui per scaricare il pieghevole clicca qui per iscriverti \nE’  previsto l’attestato di partecipazione. \nTutte le info clicca qui\n
URL:https://www.istoreto.it/event/giustizie-e-conflitti-riflessioni-a-partire-ucraina-israele-e-gaza-3/
END:VEVENT
END:VCALENDAR