BEGIN:VCALENDAR
VERSION:2.0
PRODID:-//Istoreto - ECPv4.5.13//NONSGML v1.0//EN
CALSCALE:GREGORIAN
METHOD:PUBLISH
X-WR-CALNAME:Istoreto
X-ORIGINAL-URL:https://www.istoreto.it
X-WR-CALDESC:Events for Istoreto
BEGIN:VEVENT
DTSTART;TZID=UTC+0:20240523T180000
DTEND;TZID=UTC+0:20240523T200000
DTSTAMP:20260419T192110
CREATED:20240513T155333Z
LAST-MODIFIED:20240513T160155Z
UID:20031-1716487200-1716494400@www.istoreto.it
SUMMARY:I processi all'”occupante tedesco” e ai collaborazionisti italiani. Giurisprudenze e culture giuridiche nella Torino del lungo dopoguerra (1945-2006)
DESCRIPTION:clicca qui per scaricare l’invito  e qui per tutte le info per la partecipazione \nEvento organizzato da Avvocatura torinese “Fulvio Croce”\, in collaborazione con l’ambasciata della Repubblica Federale di Germania  insieme a Istoreto e  Torino Storia. \nFondazione “Fulvio Croce” – Palazzo Capris – Via Santa Maria 1 – Torino \nSaluti \nEnrico Maggiora\, presidente Fondazione Fulvio Croce; Luciano Boccalatte\, vicepresidente Istoreto;  Andreas Krüger\, capo Ufficio Culturale dell’Ambasciata della Repubblica Federale di Germania in Roma; Alberto Riccadonna\, direttore Torino Storia \nInterventi\nRiccardo Rossotto\, avvocato\nMaria Di Massa\, avvocata\nGiovanni Focardi\, prof. Storia Contemporanea Università . di Padova\nMarzia Ponso\, prof.ssa Storia Contemporanea Università  di Torino \n
URL:https://www.istoreto.it/event/i-processi-alloccupante-tedesco-e-ai-collaborazionisti-italiani-giurisprudenze-e-culture-giuridiche-nella-torino-del-lungo-dopoguerra-1945-2006/
END:VEVENT
END:VCALENDAR