BEGIN:VCALENDAR
VERSION:2.0
PRODID:-//Istoreto - ECPv4.5.13//NONSGML v1.0//EN
CALSCALE:GREGORIAN
METHOD:PUBLISH
X-WR-CALNAME:Istoreto
X-ORIGINAL-URL:https://www.istoreto.it
X-WR-CALDESC:Events for Istoreto
BEGIN:VEVENT
DTSTART;TZID=UTC+0:20231019T180000
DTEND;TZID=UTC+0:20231019T193000
DTSTAMP:20260421T080221
CREATED:20231010T130438Z
LAST-MODIFIED:20231019T080509Z
UID:18485-1697738400-1697743800@www.istoreto.it
SUMMARY:Il mediterraneo con gli occhi dell’arte contemporanea -  Lecture con Cristina Giudici - progetto Mare
DESCRIPTION:  \nPolo del ‘900 – Palazzo San Daniele – Auditorium  – 19 ottobre ore 18 \nLecture con Cristina Giudici\, docente di storia dell’arte all’accademia Albertina di Torino. \nL’incontro mostrerà lavori artistici contemporanei\, in cui risulta evidente uno sguardo “altro” su quel mar Mediterraneo che i Romani definirono mare nostrum e gli Arabi el-Bahr al Mutawassit\, mare di mezzo. Shawky\, Xhafa\, Attia con il loro posizionamento invitano a decolonizzare le nostre menti\, sperimentando la forza e la positività della vita sul margine. \nPer il programma completo di Mare clicca qui\n
URL:https://www.istoreto.it/event/il-mediterraneo-con-gli-occhi-dellarte-contemporanea-lecture-con-cristina-giudici-progetto-mare/
LOCATION:via Cesare Battisti 4\, Torino\, Italia
END:VEVENT
END:VCALENDAR