BEGIN:VCALENDAR
VERSION:2.0
PRODID:-//Istoreto - ECPv4.5.13//NONSGML v1.0//EN
CALSCALE:GREGORIAN
METHOD:PUBLISH
X-WR-CALNAME:Istoreto
X-ORIGINAL-URL:https://www.istoreto.it
X-WR-CALDESC:Events for Istoreto
BEGIN:VEVENT
DTSTART;TZID=UTC+0:20241016T160000
DTEND;TZID=UTC+0:20241016T180000
DTSTAMP:20260420T111815
CREATED:20240925T075453Z
LAST-MODIFIED:20240925T075453Z
UID:20695-1729094400-1729101600@www.istoreto.it
SUMMARY:Il terrorismo degli anni Settanta in Italia – seminario per universitari e cittadinanza – 16 ottobre 1^ incontro – Campus Einaudi
DESCRIPTION: Inquadramento generale – Con Guido Panvini\, storico\, Università La Sapienza\, e Paolo Borgna\, magistrato Istoreto  Campus Luigi Einaudi\, Sala Lauree Rossa \nper tutte le info clicca qui \n
URL:https://www.istoreto.it/event/il-terrorismo-degli-anni-settanta-in-italia-seminario-per-universitari-e-cittadinanza-16-ottobre-1-incontro-campus-einaudi/
END:VEVENT
END:VCALENDAR