BEGIN:VCALENDAR
VERSION:2.0
PRODID:-//Istoreto - ECPv4.5.13//NONSGML v1.0//EN
CALSCALE:GREGORIAN
METHOD:PUBLISH
X-WR-CALNAME:Istoreto
X-ORIGINAL-URL:https://www.istoreto.it
X-WR-CALDESC:Events for Istoreto
BEGIN:VEVENT
DTSTART;TZID=UTC+0:20250423T210000
DTEND;TZID=UTC+0:20250423T223000
DTSTAMP:20260422T195056
CREATED:20250411T073616Z
LAST-MODIFIED:20250411T073616Z
UID:22220-1745442000-1745447400@www.istoreto.it
SUMMARY:“Il vento dalle colline”. L’insurrezione generale nel Torinese – Storia e memoria del ‘900 -Chieri
DESCRIPTION:Incontro –  sala conferenze della Biblioteca Francone di Chieri con  Valentina Colombi e Enrico Manera \nTutte le info a questo link  \n
URL:https://www.istoreto.it/event/il-vento-dalle-colline-linsurrezione-generale-nel-torinese-storia-e-memoria-del-900-chieri/
END:VEVENT
END:VCALENDAR