BEGIN:VCALENDAR
VERSION:2.0
PRODID:-//Istoreto - ECPv4.5.13//NONSGML v1.0//EN
CALSCALE:GREGORIAN
METHOD:PUBLISH
X-WR-CALNAME:Istoreto
X-ORIGINAL-URL:https://www.istoreto.it
X-WR-CALDESC:Events for Istoreto
BEGIN:VEVENT
DTSTART;TZID=UTC+0:20241127T170000
DTEND;TZID=UTC+0:20241127T190000
DTSTAMP:20260420T123722
CREATED:20240925T081102Z
LAST-MODIFIED:20241127T103331Z
UID:20707-1732726800-1732734000@www.istoreto.it
SUMMARY:ll terrorismo degli anni Settanta in Italia – seminario per universitari e cittadinanza – 4^ incontro –    Campus Einaudi
DESCRIPTION:Lo stragismo  – con Benedetta Tobagi\, storica e scrittrice\, Anna Mastromarino\, Università degli studi di Torino \,  Aula Magna Campus Einaudi \nPer tutte le info clicca qui \n
URL:https://www.istoreto.it/event/l-terrorismo-degli-anni-settanta-in-italia-seminario-per-universitari-e-cittadinanza-4-incontro-fondazione-croce/
END:VEVENT
END:VCALENDAR