BEGIN:VCALENDAR
VERSION:2.0
PRODID:-//Istoreto - ECPv4.5.13//NONSGML v1.0//EN
CALSCALE:GREGORIAN
METHOD:PUBLISH
X-WR-CALNAME:Istoreto
X-ORIGINAL-URL:https://www.istoreto.it
X-WR-CALDESC:Events for Istoreto
BEGIN:VEVENT
DTSTART;TZID=UTC+0:20240423T210000
DTEND;TZID=UTC+0:20240423T223000
DTSTAMP:20260419T145140
CREATED:20240422T100929Z
LAST-MODIFIED:20240422T100929Z
UID:19863-1713906000-1713911400@www.istoreto.it
SUMMARY:La bella estate. Genesi e organizzazione della guerra partigiana - conferenza Biblioteca di Chieri
DESCRIPTION:Chieri\, sala conferenze Biblioteca Francone – martedì 23 aprile ore 21 \nIntervengono: Nicola Adduci\, Istoreto   Enrico Manera\, Istoreto \nscarica qui per scaricare l’invito \nNell’ambito della collaborazione tra Istoreto e il Comune di Chieri\, Archivio e Biblioteca\, prosegue   il ciclo di incontri di storia Calendario civile\, dedicato alle date e ai momenti storici del Novecento la cui memoria pubblica è produttiva di significato per una cittadinanza attiva\, critica e democratica nel presente. Gli interventi\, introdotti e condotti da Enrico Manera (Istoreto) prevedono la partecipazione di studiosi/e di settore con specifica formazione\, sono rivolti alla cittadinanza con accesso libero e si configurano come attività di formazione e aggiornamento per docenti e studenti. \nQuesto incontro è dedicato al 25 aprile. \n
URL:https://www.istoreto.it/event/la-bella-estate-genesi-e-organizzazione-della-guerra-partigiana-conferenza-biblioteca-di-chieri/
END:VEVENT
END:VCALENDAR