BEGIN:VCALENDAR
VERSION:2.0
PRODID:-//Istoreto - ECPv4.5.13//NONSGML v1.0//EN
CALSCALE:GREGORIAN
METHOD:PUBLISH
X-WR-CALNAME:Istoreto
X-ORIGINAL-URL:https://www.istoreto.it
X-WR-CALDESC:Events for Istoreto
BEGIN:VEVENT
DTSTART;TZID=UTC+0:20240507T173000
DTEND;TZID=UTC+0:20240507T190000
DTSTAMP:20260419T161340
CREATED:20240502T094501Z
LAST-MODIFIED:20240502T094735Z
UID:19921-1715103000-1715108400@www.istoreto.it
SUMMARY:La Brigata ebraica tra guerra e salvataggio dei sopravvissuti alla Shoah (1939-1947) – presentazione del volume
DESCRIPTION:  \nMARTEDI’ 7 MAGGIO – ore 17.30\nPolo del ‘900 – Sala Conferenze\nPiazzetta Antonicelli \nIntervengono con l’autore\nMarco Brunazzi (Istituto Salvemini)\, Chiara Colombini (Istoreto)\, Fabio Levi (Centro Studi Primo Levi)\nConduce\nEnrico Deaglio\nPresentazione del volume La Brigata ebraica tra guerra e salvataggio dei sopravvissuti alla Shoah (1939-1947)\, di Stefano Scaletta (Silvio Zamorani Editore 2024)\nEvento organizzato dal Centro internazionale di studi Primo Levi in  collaborazione conIstituto Salvemini\, Istoreto\, Silvio Zamorani Editore \n
URL:https://www.istoreto.it/event/la-brigata-ebraica-tra-guerra-e-salvataggio-dei-sopravvissuti-alla-shoah-1939-1947-presentazione-del-volume/
END:VEVENT
END:VCALENDAR