BEGIN:VCALENDAR
VERSION:2.0
PRODID:-//Istoreto - ECPv4.5.13//NONSGML v1.0//EN
CALSCALE:GREGORIAN
METHOD:PUBLISH
X-WR-CALNAME:Istoreto
X-ORIGINAL-URL:https://www.istoreto.it
X-WR-CALDESC:Events for Istoreto
BEGIN:VEVENT
DTSTART;TZID=UTC+0:20241212T160000
DTEND;TZID=UTC+0:20241212T190000
DTSTAMP:20260422T133025
CREATED:20241114T073834Z
LAST-MODIFIED:20241114T075017Z
UID:21093-1734019200-1734030000@www.istoreto.it
SUMMARY:La città che parla (e ci interpella). Piste ludiche per giocare con la storia e le sue tracce
DESCRIPTION:La città che parla (e ci interpella).  Piste ludiche per giocare con la storia e le sue tracce \n \nLa città che parla (e ci interpella). Piste ludiche per giocare con la storia e le sue tracce \n3^ incontro Enrica Bricchetto 12 dicembre  online  \nGioco e Historical Thinking \n  \n  \n
URL:https://www.istoreto.it/event/la-citta-che-parla-e-ci-interpella-piste-ludiche-per-giocare-con-la-storia-e-le-sue-tracce-3/
END:VEVENT
END:VCALENDAR