BEGIN:VCALENDAR
VERSION:2.0
PRODID:-//Istoreto - ECPv4.5.13//NONSGML v1.0//EN
CALSCALE:GREGORIAN
METHOD:PUBLISH
X-WR-CALNAME:Istoreto
X-ORIGINAL-URL:https://www.istoreto.it
X-WR-CALDESC:Events for Istoreto
BEGIN:VEVENT
DTSTART;TZID=UTC+0:20250206T160000
DTEND;TZID=UTC+0:20250206T180000
DTSTAMP:20260422T132911
CREATED:20241114T074746Z
LAST-MODIFIED:20241114T074746Z
UID:21101-1738857600-1738864800@www.istoreto.it
SUMMARY:La città che parla (e ci interpella). Piste ludiche per giocare con la storia e le sue tracce
DESCRIPTION:La città che parla (e ci interpella).  Piste ludiche per giocare con la storia e le sue tracce \n \nLa città che parla (e ci interpella). Piste ludiche per giocare con la storia e le sue tracce \n6^ incontro online Elena Musci   online \nDebriefing  \nConfronto\, riflessioni finali e dibattito conclusivo \n
URL:https://www.istoreto.it/event/la-citta-che-parla-e-ci-interpella-piste-ludiche-per-giocare-con-la-storia-e-le-sue-tracce-5/
END:VEVENT
END:VCALENDAR