BEGIN:VCALENDAR
VERSION:2.0
PRODID:-//Istoreto - ECPv4.5.13//NONSGML v1.0//EN
CALSCALE:GREGORIAN
METHOD:PUBLISH
X-WR-CALNAME:Istoreto
X-ORIGINAL-URL:https://www.istoreto.it
X-WR-CALDESC:Events for Istoreto
BEGIN:VEVENT
DTSTART;TZID=UTC+0:20240923T110000
DTEND;TZID=UTC+0:20240923T123000
DTSTAMP:20260420T062500
CREATED:20240909T090607Z
LAST-MODIFIED:20240909T090647Z
UID:20621-1727089200-1727094600@www.istoreto.it
SUMMARY:L'archivio di Marina Jarre - conferenza stampa
DESCRIPTION:Il 23 settembre alla 11 nella Sala Memoria delle Alpi del Polo del ‘900 (piazzetta Antonicelli – Torino) ci sarà la presentazione dell’acquisizione alla stampa e alla cittadinanza \nInterverranno: \n\nPaolo Borgna\, presidente dell’Istituto piemontese per la storia della Resistenza e della società contemporanea “G.Agosti”\nMarta  Barone\, curatrice delle opere di Marina Jarre e autrice della prefazioni alla riedizione de I padri lontani\, (2021)\, Negli occhi di una ragazza (2022)\,  Ritorno in Lettonia (2023)\nPietro Jarre\, che ha curato la predisposizione dei materiali donati\n\nPorteranno il loro saluto: \nDomenico Ravetti\, presidente del Comitato Resistenza e Costituzione del Consiglio Regionale del Piemonte \nAlberto Sinigaglia\, presidente del Polo del ‘900 \ntutte le info qui  \n
URL:https://www.istoreto.it/event/larchivio-di-marina-jarre-conferenza-stampa/
END:VEVENT
END:VCALENDAR