BEGIN:VCALENDAR
VERSION:2.0
PRODID:-//Istoreto - ECPv4.5.13//NONSGML v1.0//EN
CALSCALE:GREGORIAN
METHOD:PUBLISH
X-WR-CALNAME:Istoreto
X-ORIGINAL-URL:https://www.istoreto.it
X-WR-CALDESC:Events for Istoreto
BEGIN:VEVENT
DTSTART;TZID=UTC+0:20250206T170000
DTEND;TZID=UTC+0:20250206T190000
DTSTAMP:20260422T133045
CREATED:20250121T161036Z
LAST-MODIFIED:20250121T161036Z
UID:21547-1738861200-1738868400@www.istoreto.it
SUMMARY:L’eredità della guerra. L’esodo giuliano-dalmata e altri esodi\, nuove fonti e proposte
DESCRIPTION: Polo del ’900\, Sala Conferenze\, Palazzo san Celso Corso Valdocco 4/A – Torino \nSeminario in occasione del Giorno del Ricordo 2025 \n\nSaluti istituzionali Domenico Ravetti\,  Vicepresidente del Consiglio regionale del Piemonte \n\n\nSaluti Antonio Vatta\, Associazione nazionale Venezia Giulia e Dalmazia\, Alberto Sinigaglia\, Polo del ’900 \nInterventi di \n\n\nFederica Ceriani Istoreto\, Lucia Cinato Università di Torino\, Daniele Jalla Museo diffuso\, Enrico Miletto Università di Torino\, Giovanni Spinelli\, studioso dell’esodo \n\nCoordina  Riccardo Marchis\, Istoreto \nPer tutte le info clicca qui  \n\n\n  \n  \n  \nPer tutte le info clicca qui \n
URL:https://www.istoreto.it/event/leredita-della-guerra-lesodo-giuliano-dalmata-e-altri-esodi-nuove-fonti-e-proposte/
END:VEVENT
END:VCALENDAR