BEGIN:VCALENDAR
VERSION:2.0
PRODID:-//Istoreto - ECPv4.5.13//NONSGML v1.0//EN
CALSCALE:GREGORIAN
METHOD:PUBLISH
X-WR-CALNAME:Istoreto
X-ORIGINAL-URL:https://www.istoreto.it
X-WR-CALDESC:Events for Istoreto
BEGIN:VEVENT
DTSTART;TZID=UTC+0:20250205T170000
DTEND;TZID=UTC+0:20250205T183000
DTSTAMP:20260422T134859
CREATED:20250121T160415Z
LAST-MODIFIED:20250121T160415Z
UID:21542-1738774800-1738780200@www.istoreto.it
SUMMARY:Partigiani stranieri
DESCRIPTION:Polo del ‘900 Palazzo San Daniele\, sala Spazio incontri – Torino\nDue eventi  organizzati da Istoreto e dall’editore Laterza per discutere\, da più punti di vista\, di una delle molte anime della Resistenza\, la presenza di partigiani provenienti dalle più diverse parti del mondo \n ore 17 I seminario a partire dal libro   Storia internazionale della Resistenza italiana (2024)\n\nCoordina Giovanni De Luna. Intervengono Enrico Manera e Alfredo Sasso in dialogo con Chiara Colombini e Carlo Greppi\, curatori del libro e Eric Gobetti\, autore di uno dei saggi \nore 18.30 I presentazione La ribelle. Vita straordinaria di Nada Parri (2025)  Giorgio Van Straten\, autore del libro\, in dialogo con Chiara Colombini \nTutte le info qui  \n\n
URL:https://www.istoreto.it/event/partigiani-stranieri/
END:VEVENT
END:VCALENDAR