BEGIN:VCALENDAR
VERSION:2.0
PRODID:-//Istoreto - ECPv4.5.13//NONSGML v1.0//EN
CALSCALE:GREGORIAN
METHOD:PUBLISH
X-WR-CALNAME:Istoreto
X-ORIGINAL-URL:https://www.istoreto.it
X-WR-CALDESC:Events for Istoreto
BEGIN:VEVENT
DTSTART;TZID=UTC+0:20241216T163000
DTEND;TZID=UTC+0:20241216T180000
DTSTAMP:20260422T115149
CREATED:20241209T100138Z
LAST-MODIFIED:20241209T100203Z
UID:21274-1734366600-1734372000@www.istoreto.it
SUMMARY:Passaggio del testimone. Dalle microstorie alla storia – Anteprima del portale per la scuola
DESCRIPTION:Anteprima per docenti\nOggi viene messo online il  portale Il passaggio del testimone. Dalle microstorie alla storia rivolto ai docenti della scuola del 1^ e del  2^ ciclo. \nclicca qui per iscriverti \nPresentano il portale: Claudia Abbina\, Giordana Menasci\,  Anna Orvieto\, Susanna Terracina \nIntervengono:   \nBarbara Berruti\, Anna Foa\,  contestualizzazione e  ricerca storica \nEnrica Bricchetto\, Marina Sabatini\,  percorso didattico  \nAlice Agrillo\,  Augusto Cherchi\,  infrastruttura digitale  \nqui tutte le info \n
URL:https://www.istoreto.it/event/passaggio-del-testimone-dalle-microstorie-alla-storia-anteprima-del-portale-per-la-scuola/
END:VEVENT
END:VCALENDAR