BEGIN:VCALENDAR
VERSION:2.0
PRODID:-//Istoreto - ECPv4.5.13//NONSGML v1.0//EN
CALSCALE:GREGORIAN
METHOD:PUBLISH
X-WR-CALNAME:Istoreto
X-ORIGINAL-URL:https://www.istoreto.it
X-WR-CALDESC:Events for Istoreto
BEGIN:VEVENT
DTSTART;TZID=UTC+0:20250930T144500
DTEND;TZID=UTC+0:20250930T183000
DTSTAMP:20260419T131901
CREATED:20250922T141203Z
LAST-MODIFIED:20250922T141615Z
UID:23250-1759243500-1759257000@www.istoreto.it
SUMMARY:PoloLab – Open day per insegnanti
DESCRIPTION:Torna l’Open day rivolto agli insegnanti del Polo in cui è presente Istoreto con le sue due proposte (n. 1 e 5). \nL’offerta\, rivolta alle scuole di ogni ordini e grado\, è ricca e variegata: lo studio delle fonti\, il gioco\, l’esplorazione e l’ascolto saranno al centro di attività innovative in grado di coinvolgere gli studenti. \nClicca qui per tutte le info \n
URL:https://www.istoreto.it/event/pololab-open-day-per-insegnanti/
END:VEVENT
END:VCALENDAR