BEGIN:VCALENDAR
VERSION:2.0
PRODID:-//Istoreto - ECPv4.5.13//NONSGML v1.0//EN
CALSCALE:GREGORIAN
METHOD:PUBLISH
X-WR-CALNAME:Istoreto
X-ORIGINAL-URL:https://www.istoreto.it
X-WR-CALDESC:Events for Istoreto
BEGIN:VEVENT
DTSTART;TZID=UTC+0:20241028T173000
DTEND;TZID=UTC+0:20241028T190000
DTSTAMP:20260420T125446
CREATED:20241018T083942Z
LAST-MODIFIED:20241018T084011Z
UID:20932-1730136600-1730142000@www.istoreto.it
SUMMARY:Presentazione libro Luigi Capriolo. Un eroe senza medaglie
DESCRIPTION:Barbara Berruti (Istoreto) e Bruno Maida (Unito) dialogano con Aldo Agosti e Marina Cassi\, autori del libro Luigi Capriolo. Un eroe senza medaglie (Roma\, Donzelli\, 2024). \nSaluti di Paolo Borgna\, presidente di Istoreto. \nClicca qui per scaricare la locandina \nSpazio incontri I Palazzo San Daniele I piazzetta Antonicelli (ingresso via del Carmine 14) I Torino \n
URL:https://www.istoreto.it/event/presentazione-libro-luigi-capriolo-un-eroe-senza-medaglie/
END:VEVENT
END:VCALENDAR