BEGIN:VCALENDAR
VERSION:2.0
PRODID:-//Istoreto - ECPv4.5.13//NONSGML v1.0//EN
CALSCALE:GREGORIAN
METHOD:PUBLISH
X-WR-CALNAME:Istoreto
X-ORIGINAL-URL:https://www.istoreto.it
X-WR-CALDESC:Events for Istoreto
BEGIN:VEVENT
DTSTART;TZID=UTC+0:20250526T180000
DTEND;TZID=UTC+0:20250526T200000
DTSTAMP:20260423T002409
CREATED:20250508T101441Z
LAST-MODIFIED:20250519T074049Z
UID:22454-1748282400-1748289600@www.istoreto.it
SUMMARY:Raccontare la Resistenza - 3^ lezione
DESCRIPTION:Torino\, Teatro Monte Rosa\, Via Brandizzo 65 – ore 18\nGiovanni De Luna\, Partigiani tra la folla. Introduce Laura Gnocchi  – tutte le info qui \n
URL:https://www.istoreto.it/event/raccontare-la-resistenza-3-lezione/
END:VEVENT
END:VCALENDAR