BEGIN:VCALENDAR
VERSION:2.0
PRODID:-//Istoreto - ECPv4.5.13//NONSGML v1.0//EN
CALSCALE:GREGORIAN
METHOD:PUBLISH
X-WR-CALNAME:Istoreto
X-ORIGINAL-URL:https://www.istoreto.it
X-WR-CALDESC:Events for Istoreto
BEGIN:VEVENT
DTSTART;TZID=UTC+0:20250506T170000
DTEND;TZID=UTC+0:20250506T190000
DTSTAMP:20260422T230004
CREATED:20250508T102954Z
LAST-MODIFIED:20250508T102954Z
UID:22464-1746550800-1746558000@www.istoreto.it
SUMMARY:Raccontiamo. 1944 Vincenza Noto e Remo Bretto. Due vite per la Resistenza piemontese - conferenza
DESCRIPTION:   Polo del ‘900    Palazzo San Celso  Sala “Memoria delle Alpi”- Piazzetta Antonicelli – Torino  \nTutte le info qui \n  \n
URL:https://www.istoreto.it/event/raccontiamo-1944-vincenza-noto-e-remo-bretto-due-vite-per-la-resistenza-piemontese-conferenza/
END:VEVENT
END:VCALENDAR