BEGIN:VCALENDAR
VERSION:2.0
PRODID:-//Istoreto - ECPv4.5.13//NONSGML v1.0//EN
CALSCALE:GREGORIAN
METHOD:PUBLISH
X-WR-CALNAME:Istoreto
X-ORIGINAL-URL:https://www.istoreto.it
X-WR-CALDESC:Events for Istoreto
BEGIN:VEVENT
DTSTART;TZID=UTC+0:20240621T173000
DTEND;TZID=UTC+0:20240621T190000
DTSTAMP:20260420T013637
CREATED:20240613T050420Z
LAST-MODIFIED:20240613T094604Z
UID:20247-1718991000-1718996400@www.istoreto.it
SUMMARY:Rebus. Primo Levi. Intervista e saggi (1981-2023) di P. Valabrega - presentazione del libro
DESCRIPTION:Sala Memoria delle Alpi\, Palazzo San Celso\, piazzetta Antonicelli  – Torino \nNe discutono con l’autrice\, PAOLA VALABREGA \nPIERO BIANUCCI\, “La Stampa” \,MIRNA CICIONI\, Università di Melbourne\, ROBERTA MORI\, Centro Internazionale di Studi Primo Levi\, Torino \nclicca qui per tutte le info \n
URL:https://www.istoreto.it/event/rebus-interviste-e-scritti-1981-2023-di-p-valabrega-presentazione-del-libro/
END:VEVENT
END:VCALENDAR