BEGIN:VCALENDAR
VERSION:2.0
PRODID:-//Istoreto - ECPv4.5.13//NONSGML v1.0//EN
CALSCALE:GREGORIAN
METHOD:PUBLISH
X-WR-CALNAME:Istoreto
X-ORIGINAL-URL:https://www.istoreto.it
X-WR-CALDESC:Events for Istoreto
BEGIN:VEVENT
DTSTART;TZID=UTC+0:20241114T150000
DTEND;TZID=UTC+0:20241114T173000
DTSTAMP:20260422T101849
CREATED:20241114T072443Z
LAST-MODIFIED:20241114T072634Z
UID:21084-1731596400-1731605400@www.istoreto.it
SUMMARY:Ricordo di Giorgio Vaccarino
DESCRIPTION:Giovedì 14 novembre 2024\, ore 15\nSala conferenze del Polo del ‘900\nPiazzetta Antonicelli – Torino\nclicca per qui scaricare l’ invito   clicca qui per tutte le info \nRicordo di Giorgio Vaccarino \n \n
URL:https://www.istoreto.it/event/ricordo-di-giorgio-vaccarino/
END:VEVENT
END:VCALENDAR