BEGIN:VCALENDAR
VERSION:2.0
PRODID:-//Istoreto - ECPv4.5.13//NONSGML v1.0//EN
CALSCALE:GREGORIAN
METHOD:PUBLISH
X-WR-CALNAME:Istoreto
X-ORIGINAL-URL:https://www.istoreto.it
X-WR-CALDESC:Events for Istoreto
BEGIN:VEVENT
DTSTART;TZID=UTC+0:20250407T090000
DTEND;TZID=UTC+0:20250408T090000
DTSTAMP:20260422T134554
CREATED:20250217T112640Z
LAST-MODIFIED:20250217T112750Z
UID:21744-1744016400-1744102800@www.istoreto.it
SUMMARY:Riflessioni sulla Shoah e i genocidi nel XXI secolo Verso un approccio integrato della storia – seminario per insegnanti (2 giorni)
DESCRIPTION:Torino\, lunedì 7 e martedì 8 aprile 2025   Liceo Statale D. Berti – Torino \nLa Rete di scuole piemontesi per la didattica della deportazione e della Shoah per l’anno 2025 promuove il seminario regionale per docenti Riflessioni sulla Shoah e i genocidi nel XXI secolo. Verso un approccio integrato della storia\, organizzato da Mémorial de la Shoah\, Liceo Statale “Domenico Berti” (scuola capofila) e Istoreto\, in collaborazione con USR Piemonte e la Comunità ebraica di Torino. \ntutte le info qui \n
URL:https://www.istoreto.it/event/riflessioni-sulla-shoah-e-i-genocidi-nel-xxi-secolo-verso-un-approccio-integrato-della-storia-seminario-per-insegnanti-2-giorni/
END:VEVENT
END:VCALENDAR