BEGIN:VCALENDAR
VERSION:2.0
PRODID:-//Istoreto - ECPv4.5.13//NONSGML v1.0//EN
CALSCALE:GREGORIAN
METHOD:PUBLISH
X-WR-CALNAME:Istoreto
X-ORIGINAL-URL:https://www.istoreto.it
X-WR-CALDESC:Events for Istoreto
BEGIN:VEVENT
DTSTART;TZID=UTC+0:20240509T143000
DTEND;TZID=UTC+0:20240509T153000
DTSTAMP:20260419T191318
CREATED:20240510T085417Z
LAST-MODIFIED:20240510T085417Z
UID:20007-1715265000-1715268600@www.istoreto.it
SUMMARY:SalTO - 2024
DESCRIPTION:Clicca qui per gli eventi che coivolgono Istoreto  https://www.istoreto.it/2024/04/istoreto-a-salto-2024/ \n
URL:https://www.istoreto.it/event/salto-2024/
END:VEVENT
END:VCALENDAR