BEGIN:VCALENDAR
VERSION:2.0
PRODID:-//Istoreto - ECPv4.5.13//NONSGML v1.0//EN
CALSCALE:GREGORIAN
METHOD:PUBLISH
X-WR-CALNAME:Istoreto
X-ORIGINAL-URL:https://www.istoreto.it
X-WR-CALDESC:Events for Istoreto
BEGIN:VEVENT
DTSTART;TZID=UTC+0:20250207T160000
DTEND;TZID=UTC+0:20250207T180000
DTSTAMP:20260422T120325
CREATED:20250121T155916Z
LAST-MODIFIED:20250121T155932Z
UID:21537-1738944000-1738951200@www.istoreto.it
SUMMARY:Seminario di studi. Nodi storici del conflitto israelo-palestinese. Memorie\, diritti e speranze per una pace giusta
DESCRIPTION:Polo del ‘900\, Palazzo San Daniele\, Auditorium – piazzetta Antonicelli \nSeminario di studi con la partecipazione con Anna Foa\, autrice del libro Il suicidio di Israele  e di autorevoli esperti appartenenti a campi diversi: giuristi\, magistrati\, storici e giornalisti che analizzeranno i temi proposti alla luce delle loro specifiche competenze\, a partire da questa domanda: come conciliare le memorie del passato e la giustizia alla ricerca di una pace giusta e durevole? \nIn presenza\, accanto al coordinatore della discussione\, il magistrato Alberto Perduca\, la storica Anna Foa\, l’ambasciatore Pietro Benassi\, il direttore de La Stampa Andrea Malaguti e\, collegato da remoto\, il professor Arturo Marzano  \ntutte le info qui \n
URL:https://www.istoreto.it/event/seminario-di-studi-nodi-storici-del-conflitto-israelo-palestinese-memorie-diritti-e-speranze-per-una-pace-giusta-2/
END:VEVENT
END:VCALENDAR