BEGIN:VCALENDAR
VERSION:2.0
PRODID:-//Istoreto - ECPv4.5.13//NONSGML v1.0//EN
CALSCALE:GREGORIAN
METHOD:PUBLISH
X-WR-CALNAME:Istoreto
X-ORIGINAL-URL:https://www.istoreto.it
X-WR-CALDESC:Events for Istoreto
BEGIN:VEVENT
DTSTART;TZID=UTC+0:20250425T100000
DTEND;TZID=UTC+0:20250425T130000
DTSTAMP:20260422T212149
CREATED:20250424T095714Z
LAST-MODIFIED:20250424T095740Z
UID:22383-1745575200-1745586000@www.istoreto.it
SUMMARY:Sfoglia il 25 aprile. Tra disegni e parole – 25 aprile
DESCRIPTION:Laboratorio clicca qui per le info \n
URL:https://www.istoreto.it/event/sfoglia-il-25-aprile-tra-disegni-e-parole-25-aprile/
END:VEVENT
END:VCALENDAR