BEGIN:VCALENDAR
VERSION:2.0
PRODID:-//Istoreto - ECPv4.5.13//NONSGML v1.0//EN
CALSCALE:GREGORIAN
METHOD:PUBLISH
X-WR-CALNAME:Istoreto
X-ORIGINAL-URL:https://www.istoreto.it
X-WR-CALDESC:Events for Istoreto
BEGIN:VEVENT
DTSTART;TZID=UTC+0:20250425T170000
DTEND;TZID=UTC+0:20250425T183000
DTSTAMP:20260423T002011
CREATED:20250424T100041Z
LAST-MODIFIED:20250424T100051Z
UID:22389-1745600400-1745605800@www.istoreto.it
SUMMARY:Sognare – Lectio Magistralis di Chiara Colombini
DESCRIPTION:Clicca qui per le info \n
URL:https://www.istoreto.it/event/sognare-lectio-magistralis-di-chiara-colombini/
END:VEVENT
END:VCALENDAR