BEGIN:VCALENDAR
VERSION:2.0
PRODID:-//Istoreto - ECPv4.5.13//NONSGML v1.0//EN
CALSCALE:GREGORIAN
METHOD:PUBLISH
X-WR-CALNAME:Istoreto
X-ORIGINAL-URL:https://www.istoreto.it
X-WR-CALDESC:Events for Istoreto
BEGIN:VEVENT
DTSTART;TZID=UTC+0:20250626T153000
DTEND;TZID=UTC+0:20250626T193000
DTSTAMP:20260423T002726
CREATED:20250625T082700Z
LAST-MODIFIED:20250625T082700Z
UID:22753-1750951800-1750966200@www.istoreto.it
SUMMARY:Summer School – Esperienze di Ludic History\, didattica della storia e Gamification 2^ edizione
DESCRIPTION:Polo del ‘900 – Palazzo San Daniele – piazzetta Antonicelli\,  Torino  (ingresso Via del Carmine\, 14)\nI.I.S. Avogadro – C.so San Maurizio\, 8 Torino\nLeggi tutto qui \ninfo – formazione.corsi @istoreto.it \n
URL:https://www.istoreto.it/event/summer-school-esperienze-di-ludic-history-didattica-della-storia-e-gamification-2-edizione/
END:VEVENT
END:VCALENDAR