BEGIN:VCALENDAR
VERSION:2.0
PRODID:-//Istoreto - ECPv4.5.13//NONSGML v1.0//EN
CALSCALE:GREGORIAN
METHOD:PUBLISH
X-WR-CALNAME:Istoreto
X-ORIGINAL-URL:https://www.istoreto.it
X-WR-CALDESC:Events for Istoreto
BEGIN:VEVENT
DTSTART;TZID=UTC+0:20241003T163000
DTEND;TZID=UTC+0:20241003T183000
DTSTAMP:20260420T093622
CREATED:20240925T070052Z
LAST-MODIFIED:20240925T070052Z
UID:20685-1727973000-1727980200@www.istoreto.it
SUMMARY:“Una scuola per tutti. Una scuola di tutti”. Seminario di disseminazione
DESCRIPTION:“Una scuola per tutti. Una scuola di tutti”. Seminario di disseminazione – evento in presenza e online\nper tutte le info clicca qui \n
URL:https://www.istoreto.it/event/una-scuola-per-tutti-una-scuola-di-tutti-seminario-di-disseminazione/
END:VEVENT
END:VCALENDAR