BEGIN:VCALENDAR
VERSION:2.0
PRODID:-//Istoreto - ECPv4.5.13//NONSGML v1.0//EN
CALSCALE:GREGORIAN
METHOD:PUBLISH
X-WR-CALNAME:Istoreto
X-ORIGINAL-URL:https://www.istoreto.it
X-WR-CALDESC:Events for Istoreto
BEGIN:VEVENT
DTSTART;TZID=UTC+0:20240423T080000
DTEND;TZID=UTC+0:20240423T170000
DTSTAMP:20260419T150035
CREATED:20240412T105635Z
LAST-MODIFIED:20240412T105704Z
UID:19809-1713859200-1713891600@www.istoreto.it
SUMMARY:V. Santangelo\, Amedeo Ugolini. Un mite intellettuale comunista  - presentazione libro
DESCRIPTION: \nPresentazione del volume di Vincenzo Santangelo\, Amedeo Ugolini. Un mite intellettuale comunista  (Torino\, Seb27\, 2024) \nNe discutono con l’autore e con Luciano Boccalatte\, vicepresidente di Istoreto\,  Francesca Chiarotto e Gianfranco Petrillo. \nModera l’incontro Aldo Agosti \nclicca qui per scaricare l’invito \n  \n
URL:https://www.istoreto.it/event/v-santangelo-amedeo-ugolini-un-mite-intellettuale-comunista-presentazione-libro/
END:VEVENT
END:VCALENDAR