BEGIN:VCALENDAR
VERSION:2.0
PRODID:-//Istoreto - ECPv4.5.13//NONSGML v1.0//EN
CALSCALE:GREGORIAN
METHOD:PUBLISH
X-WR-CALNAME:Istoreto
X-ORIGINAL-URL:https://www.istoreto.it
X-WR-CALDESC:Events for Istoreto
BEGIN:VEVENT
DTSTART;TZID=UTC+0:20220125T173000
DTEND;TZID=UTC+0:20220125T190000
DTSTAMP:20260421T082140
CREATED:20220104T112548Z
LAST-MODIFIED:20220121T093424Z
UID:11828-1643131800-1643137200@www.istoreto.it
SUMMARY:Goti Bauer\, Liliana Segre\, Nedo Fiano\, Voci dalla Shoah - Presentazione del libro
DESCRIPTION:  \n  \nRecentemente ripubblicato\, dopo 25 anni\, il volume Voci dalla Shoah – a cura di Claudio Facchinelli (Gaspari 2020) –  contiene le prime testimonianze scritte di Goti Bauer\, Liliana Segre e Nedo Fiano. Tutti e tre sono stati poi testimoni costanti della deportazione\, ma quella prima testimonianza fu un punto di partenza. \nNe discute con il curatore Monica Bardi.\nCoordina Luciano Boccalatte\, direttore Istoreto\nLetture di Lorella De Luca. \nIngresso libero con Super Green Pass e mascherina Ffp2 obbligatori. \nL‘iniziativa è realizzata con il sostegno del Comitato della Regione Piemonte per l’affermazione dei valori della Resistenza e della Costituzione repubblicana \nPrenotazione obbligatoria    clicca qui  \n  \n
URL:https://www.istoreto.it/event/voci-dalla-shoah-presentazione-del-libro/
LOCATION:Via del Carmine 14\, Torino\, 10122\, Italia
ATTACH;FMTTYPE=image/jpeg:https://www.istoreto.it/wp-content/uploads/2022/01/Immagine-2022-01-04-121909.jpg
END:VEVENT
END:VCALENDAR